BEGIN:VCALENDAR
VERSION:2.0
PRODID:-//Idaho Chapter of GCSAA - ECPv6.15.18//NONSGML v1.0//EN
CALSCALE:GREGORIAN
METHOD:PUBLISH
X-ORIGINAL-URL:https://idahogcsa.org
X-WR-CALDESC:Events for Idaho Chapter of GCSAA
REFRESH-INTERVAL;VALUE=DURATION:PT1H
X-Robots-Tag:noindex
X-PUBLISHED-TTL:PT1H
BEGIN:VTIMEZONE
TZID:America/Los_Angeles
BEGIN:DAYLIGHT
TZOFFSETFROM:-0800
TZOFFSETTO:-0700
TZNAME:PDT
DTSTART:20240310T100000
END:DAYLIGHT
BEGIN:STANDARD
TZOFFSETFROM:-0700
TZOFFSETTO:-0800
TZNAME:PST
DTSTART:20241103T090000
END:STANDARD
BEGIN:DAYLIGHT
TZOFFSETFROM:-0800
TZOFFSETTO:-0700
TZNAME:PDT
DTSTART:20250309T100000
END:DAYLIGHT
BEGIN:STANDARD
TZOFFSETFROM:-0700
TZOFFSETTO:-0800
TZNAME:PST
DTSTART:20251102T090000
END:STANDARD
BEGIN:DAYLIGHT
TZOFFSETFROM:-0800
TZOFFSETTO:-0700
TZNAME:PDT
DTSTART:20260308T100000
END:DAYLIGHT
BEGIN:STANDARD
TZOFFSETFROM:-0700
TZOFFSETTO:-0800
TZNAME:PST
DTSTART:20261101T090000
END:STANDARD
END:VTIMEZONE
BEGIN:VEVENT
DTSTART;TZID=America/Los_Angeles:20250612T100000
DTEND;TZID=America/Los_Angeles:20250612T150000
DTSTAMP:20260425T032148
CREATED:20190123T225039Z
LAST-MODIFIED:20250515T190717Z
UID:2166-1749722400-1749740400@idahogcsa.org
SUMMARY:29th Annual Super/Pro Golf Challenge - Registration is open!
DESCRIPTION:Take advantage of this quick get-away team building event – and an opportunity to talk to your peers!   \nPlease register by June 5. (While registrations are accepted after that date – earlier registrations are appreciated for the course to prepare.) \nTwo-Person Best Ball / Online registration is available below. \nHost superintendent\, Bart Brandell\nHost professional\, Alex Nixon\n\nSponsorships are available! To ensure proper signage\, please commit by May 29:\n– please contact either tournament chair Mark Spraktes (208) 604-5460\, host superintendent Bart Brandell 208-420-2892 or Lori (406) 273-0845 to be a sponsor… or simply commit on the registration form below!\n– Three options: $125 Hole\, or Hole + Pin Prize ($175)\, or Hole plus One-Piece Display ($225)\, or Hole plus Two-Piece Display ($300)  \nDress Code: Proper golf attire  \nEligibility:  There will be two separate flights so all may play. \n1st flight will consist of one of the following combinations from the same facility:\nHead Supt./Head Pro\nHead Supt./Asst. Pro\nAsst. Supt/ Head Pro\nAsst. Supt/Asst. Pro     \n2nd Flight will include all other combinations \nSuper/Pro Golf Challenge\, Thursday\, June 12\, 10:00 a.m.\, Jerome Country Club\, Jerome\, Idaho. See below to register or be a sponsor.  \n\n\n                \n                        \n                            Super/Pro Challenge\n                             \n                         \n	\n	Website Proudly Sponsored By:\n	\n	\n	\n	\n \n                        Contact DetailsContact Name*\n                            \n                            \n                                                    \n                                                    First\n                                                \n                            \n                            \n                                                    \n                                                    Last\n                                                \n                            \n                        Email Address*\n                            \n                        Phone*Sponsor Opportunities\n			\n				\n				Hole Sponsor: $125\n			\n			\n				\n				Hole Sponsor + Pin prize: $175\n			\n			\n				\n				Hole plus one-piece display: $225\n			\n			\n				\n				Hole plus two-piece display: $300\n			\n			\n				\n				No sponsor\n			Team 1 Player RosterRegistration Fee\n			\n				\n				Team Fee: $140.00\n			\n			\n				\n				No Team\n			Team 1\, Player 1 Name\n                            \n                            \n                                                    \n                                                    First\n                                                \n                            \n                            \n                                                    \n                                                    Last Name and position\n                                                \n                            \n                        Team 1\, Player 1 Handicap or best guessTeam 1\, Player 2 Name\n                            \n                            \n                                                    \n                                                    First\n                                                \n                            \n                            \n                                                    \n                                                    Last Name and position\n                                                \n                            \n                        Team 1\, Player 2 Handicap or best guessCourse/CompanyTeam 2 Player RosterRegister 2nd Team?\n			\n				\n				Yes: $140.00\n			\n			\n				\n				No\n			Team 2\, Player 1 Name\n                            \n                            \n                                                    \n                                                    First\n                                                \n                            \n                            \n                                                    \n                                                    Last Name and position\n                                                \n                            \n                        Team 2\, Player 1 Handicap or best guessTeam 2\, Player 2 Name\n                            \n                            \n                                                    \n                                                    First\n                                                \n                            \n                            \n                                                    \n                                                    Last Name and Position\n                                                \n                            \n                        Team 2\, Player 2 Handicap or best guessCourse/Company*Payment OptionsThis field is hidden when viewing the formName on your Credit/Debit Card - or on PayPal Account\n                            \n                            \n                                                    \n                                                    First\n                                                \n                            \n                            \n                                                    \n                                                    Last\n                                                \n                            \n                        (moved to HIDDEN)This field is hidden when viewing the formPreferred Address    \n                    \n                         \n                                        \n                                        Street Address\n                                    \n                                    \n                                    City\n                                 \n                                        AlabamaAlaskaArizonaArkansasCaliforniaColoradoConnecticutDelawareDistrict of ColumbiaFloridaGeorgiaGuamHawaiiIdahoIllinoisIndianaIowaKansasKentuckyLouisianaMaineMarylandMassachusettsMichiganMinnesotaMississippiMissouriMontanaNebraskaNevadaNew HampshireNew JerseyNew MexicoNew YorkNorth CarolinaNorth DakotaOhioOklahomaOregonPennsylvaniaPuerto RicoRhode IslandSouth CarolinaSouth DakotaTennesseeTexasUtahVermontVirginiaWashingtonWest VirginiaWisconsinWyomingOntarioQuebecNova ScotiaNew BrunswickManitobaBritish ColumbiaPrince Edward IslandSaskatchewanAlbertaNewfoundland and Labrador\n                                        State / Canadian Province\n                                      \n                                    \n                                    Zip Code\n                                \n                    \n                (moved to HIDDEN)This field is hidden when viewing the formIs the above address your work or home?*WorkHome(moved to HIDDEN)How would you like to pay?*-Select Payment Option-Payment by credit/debit cardRequest InvoiceIf paying by credit/debit card with Paypal\, you do not need a Paypal account.Service Fee applicable if paying by credit/debit card.\n					\n					\n						Price:\n						$0.00\n					\n					\n					\n				Total Amount\n							$0.00\n							\n						\n          \n            \n            \n            \n            \n            \n            \n            \n            \n            \n            \n            \n            \n            \n        \n                        Δ
URL:https://idahogcsa.org/event/super-pro-golf-challenge/
ATTACH;FMTTYPE=image/jpeg:https://idahogcsa.org/wp-content/uploads/2019/01/Jerome-cc-banner-with-flatten-logo-and-names-1.jpg
END:VEVENT
END:VCALENDAR