BEGIN:VCALENDAR
VERSION:2.0
PRODID:-//Idaho Chapter of GCSAA - ECPv6.15.18//NONSGML v1.0//EN
CALSCALE:GREGORIAN
METHOD:PUBLISH
X-WR-CALNAME:Idaho Chapter of GCSAA
X-ORIGINAL-URL:https://idahogcsa.org
X-WR-CALDESC:Events for Idaho Chapter of GCSAA
REFRESH-INTERVAL;VALUE=DURATION:PT1H
X-Robots-Tag:noindex
X-PUBLISHED-TTL:PT1H
BEGIN:VTIMEZONE
TZID:America/Los_Angeles
BEGIN:DAYLIGHT
TZOFFSETFROM:-0800
TZOFFSETTO:-0700
TZNAME:PDT
DTSTART:20250309T100000
END:DAYLIGHT
BEGIN:STANDARD
TZOFFSETFROM:-0700
TZOFFSETTO:-0800
TZNAME:PST
DTSTART:20251102T090000
END:STANDARD
BEGIN:DAYLIGHT
TZOFFSETFROM:-0800
TZOFFSETTO:-0700
TZNAME:PDT
DTSTART:20260308T100000
END:DAYLIGHT
BEGIN:STANDARD
TZOFFSETFROM:-0700
TZOFFSETTO:-0800
TZNAME:PST
DTSTART:20261101T090000
END:STANDARD
BEGIN:DAYLIGHT
TZOFFSETFROM:-0800
TZOFFSETTO:-0700
TZNAME:PDT
DTSTART:20270314T100000
END:DAYLIGHT
BEGIN:STANDARD
TZOFFSETFROM:-0700
TZOFFSETTO:-0800
TZNAME:PST
DTSTART:20271107T090000
END:STANDARD
END:VTIMEZONE
BEGIN:VEVENT
DTSTART;TZID=America/Los_Angeles:20260223T070000
DTEND;TZID=America/Los_Angeles:20260224T120000
DTSTAMP:20260424T142316
CREATED:20260104T161024Z
LAST-MODIFIED:20260204T203418Z
UID:5161-1771830000-1771934400@idahogcsa.org
SUMMARY:Registration is open! Idaho GCSA Spring Meeting & Trade Show 2026
DESCRIPTION:(Register\, reserve a booth\, and/or be a sponsor here!) Our hotel room block has been extended! \nWe continue to address different course responsibilities as we help you provide the best playing conditions for your budget!  Be sure to bring your equipment manager this year!  \nJoin us at The Riverside Hotel\, Boise\, Idaho\nFebruary 23 & 24\, 2026\n(Board strategic planning and board meeting is Feb 22) \nReserve your hotel room – our room block has been extended!  We need all staying in a hotel to stay within our conference room block! \nEnjoy golf with your peers at RedHawk Golf Course\, Daniel Lee\, GCS\, and Tyler Mikels\, hosts \nEmily Braithwaite will participate in place of Kevin Frank\, Ph.D.\, who had to cancel for a family health issue. The agenda below has been updated. \nPesticide recertification – (2) Idaho credit\, (2) Wyoming\,  \n.75 GCSAA EDUs available \n~ Conference Agenda updated with replacement speaker: Conference AGENDA (including trade show times) \nREGISTER BELOW ONLINE! Request an invoice or pay with credit/debit cards: \n~ Register for the conference: CLICK HERE \n~ Register for a TRADE SHOW BOOTH: CLICK HERE to register online for Trade Show booth and/or as a sponsor. \n~ HOTEL:  Call the Riverside Hotel (208) 343-1871 and specify Idaho Golf Course Superintendents for our single/double rate of $174+ tax. Breakfast included with the hotel room. \nThe Riverside Hotel\n2900 Chinden Blvd.\nBOISE\,IDAHO 83714\n(208) 343-1871 \nThe Riverside Hotel\, BW Premier Collection\, Boise\, Idaho! This full-service hotel and convention center is located along the beautiful Boise River\, and is along the Boise River Greenbelt. You will find area options to explore that include a winery\, brewery\, restaurants and comedy club\, all within a half-mile walking distance. Downtown is easily accessible two miles away — an easy Uber ride. \nSorry\, no refunds after 9:00 a.m. Feb 19 due to guarantees
URL:https://idahogcsa.org/event/registration-is-open-idaho-gcsa-spring-meeting-trade-show-2026/
LOCATION:Riverside Hotel BW\, 2900 W Chinden Blvd\, Boise\, ID\, 83714\, United States
ATTACH;FMTTYPE=image/jpeg:https://idahogcsa.org/wp-content/uploads/2025/12/social-banner-ID-2026-for-meeting-web7.jpg
END:VEVENT
END:VCALENDAR