BEGIN:VCALENDAR
VERSION:2.0
PRODID:-//Idaho Chapter of GCSAA - ECPv6.15.18//NONSGML v1.0//EN
CALSCALE:GREGORIAN
METHOD:PUBLISH
X-WR-CALNAME:Idaho Chapter of GCSAA
X-ORIGINAL-URL:https://idahogcsa.org
X-WR-CALDESC:Events for Idaho Chapter of GCSAA
REFRESH-INTERVAL;VALUE=DURATION:PT1H
X-Robots-Tag:noindex
X-PUBLISHED-TTL:PT1H
BEGIN:VTIMEZONE
TZID:America/Los_Angeles
BEGIN:DAYLIGHT
TZOFFSETFROM:-0800
TZOFFSETTO:-0700
TZNAME:PDT
DTSTART:20250309T100000
END:DAYLIGHT
BEGIN:STANDARD
TZOFFSETFROM:-0700
TZOFFSETTO:-0800
TZNAME:PST
DTSTART:20251102T090000
END:STANDARD
BEGIN:DAYLIGHT
TZOFFSETFROM:-0800
TZOFFSETTO:-0700
TZNAME:PDT
DTSTART:20260308T100000
END:DAYLIGHT
BEGIN:STANDARD
TZOFFSETFROM:-0700
TZOFFSETTO:-0800
TZNAME:PST
DTSTART:20261101T090000
END:STANDARD
BEGIN:DAYLIGHT
TZOFFSETFROM:-0800
TZOFFSETTO:-0700
TZNAME:PDT
DTSTART:20270314T100000
END:DAYLIGHT
BEGIN:STANDARD
TZOFFSETFROM:-0700
TZOFFSETTO:-0800
TZNAME:PST
DTSTART:20271107T090000
END:STANDARD
END:VTIMEZONE
BEGIN:VEVENT
DTSTART;TZID=America/Los_Angeles:20260420T080000
DTEND;TZID=America/Los_Angeles:20260420T220000
DTSTAMP:20260424T131202
CREATED:20210218T215948Z
LAST-MODIFIED:20250614T024740Z
UID:1840-1776672000-1776722400@idahogcsa.org
SUMMARY:Scholarship applications due by April 20 each year
DESCRIPTION:Submit your scholarship application for the Link Turf Scholarship or the Link Legacy Scholarship by April 20!\nThe application can be completed and submitted online\, submitting separately any required documents. \nCLICK HERE to be directed to the page\, or click on scholarship opportunities under the INFO tab to be directed \nWATCH OUT! Don’t miss anything! It is important you read the instructions that are listed before the application – you may have additional required information to submit to be considered.
URL:https://idahogcsa.org/event/scholarship-applications-due-by-april-20/
END:VEVENT
END:VCALENDAR