BEGIN:VCALENDAR
VERSION:2.0
PRODID:-//Idaho Chapter of GCSAA - ECPv6.15.18//NONSGML v1.0//EN
CALSCALE:GREGORIAN
METHOD:PUBLISH
X-WR-CALNAME:Idaho Chapter of GCSAA
X-ORIGINAL-URL:https://idahogcsa.org
X-WR-CALDESC:Events for Idaho Chapter of GCSAA
REFRESH-INTERVAL;VALUE=DURATION:PT1H
X-Robots-Tag:noindex
X-PUBLISHED-TTL:PT1H
BEGIN:VTIMEZONE
TZID:America/Los_Angeles
BEGIN:DAYLIGHT
TZOFFSETFROM:-0800
TZOFFSETTO:-0700
TZNAME:PDT
DTSTART:20260308T100000
END:DAYLIGHT
BEGIN:STANDARD
TZOFFSETFROM:-0700
TZOFFSETTO:-0800
TZNAME:PST
DTSTART:20261101T090000
END:STANDARD
BEGIN:DAYLIGHT
TZOFFSETFROM:-0800
TZOFFSETTO:-0700
TZNAME:PDT
DTSTART:20270314T100000
END:DAYLIGHT
BEGIN:STANDARD
TZOFFSETFROM:-0700
TZOFFSETTO:-0800
TZNAME:PST
DTSTART:20271107T090000
END:STANDARD
BEGIN:DAYLIGHT
TZOFFSETFROM:-0800
TZOFFSETTO:-0700
TZNAME:PDT
DTSTART:20280312T100000
END:DAYLIGHT
BEGIN:STANDARD
TZOFFSETFROM:-0700
TZOFFSETTO:-0800
TZNAME:PST
DTSTART:20281105T090000
END:STANDARD
END:VTIMEZONE
BEGIN:VEVENT
DTSTART;TZID=America/Los_Angeles:20270222T080000
DTEND;TZID=America/Los_Angeles:20270223T170000
DTSTAMP:20260425T051812
CREATED:20210316T204630Z
LAST-MODIFIED:20260330T181914Z
UID:2842-1803283200-1803402000@idahogcsa.org
SUMMARY:Idaho GCSA Spring Meeting & Trade Show - Feb 22 & 23\, 2027
DESCRIPTION:Each year we can’t wait to gather for this event – connections are strong in our association and this is a great place to come together! \nConference information will be available the first of the year for the Spring Meeting & Trade Show – February 22 & 23\, 2027. The trade show will be Feb 22. \n* The board meeting will be Sunday\, February 21. \nAll under one roof! Join us for great conversation\, always great education\, and a trade show in Boise\, Idaho\, at… \nThe Riverside Hotel\, BW Premier Collection\, Boise\, Idaho! This full-service hotel and convention center is located along the beautiful Boise River\, and is along the Boise River Greenbelt. You will find area options to explore that include a winery\, brewery\, restaurants and comedy club\, all within a half-mile walking distance. Downtown is easily accessible two miles away — an easy Uber ride. \nDon’t forget… SELL OUT!  Our trade show often sells out each year on a first-come basis. When conference information is available the first of the year\, don’t wait till the deadline or it may be too late. \nFind registration information here the first week of January.
URL:https://idahogcsa.org/event/idaho-gcsa-spring-meeting-trade-show-3/
LOCATION:https://www.riversideboise.com/
END:VEVENT
END:VCALENDAR