BEGIN:VCALENDAR
VERSION:2.0
PRODID:-//Idaho Chapter of GCSAA - ECPv6.15.18//NONSGML v1.0//EN
CALSCALE:GREGORIAN
METHOD:PUBLISH
X-WR-CALNAME:Idaho Chapter of GCSAA
X-ORIGINAL-URL:https://idahogcsa.org
X-WR-CALDESC:Events for Idaho Chapter of GCSAA
REFRESH-INTERVAL;VALUE=DURATION:PT1H
X-Robots-Tag:noindex
X-PUBLISHED-TTL:PT1H
BEGIN:VTIMEZONE
TZID:America/Los_Angeles
BEGIN:DAYLIGHT
TZOFFSETFROM:-0800
TZOFFSETTO:-0700
TZNAME:PDT
DTSTART:20130310T100000
END:DAYLIGHT
BEGIN:STANDARD
TZOFFSETFROM:-0700
TZOFFSETTO:-0800
TZNAME:PST
DTSTART:20131103T090000
END:STANDARD
BEGIN:DAYLIGHT
TZOFFSETFROM:-0800
TZOFFSETTO:-0700
TZNAME:PDT
DTSTART:20140309T100000
END:DAYLIGHT
BEGIN:STANDARD
TZOFFSETFROM:-0700
TZOFFSETTO:-0800
TZNAME:PST
DTSTART:20141102T090000
END:STANDARD
BEGIN:DAYLIGHT
TZOFFSETFROM:-0800
TZOFFSETTO:-0700
TZNAME:PDT
DTSTART:20150308T100000
END:DAYLIGHT
BEGIN:STANDARD
TZOFFSETFROM:-0700
TZOFFSETTO:-0800
TZNAME:PST
DTSTART:20151101T090000
END:STANDARD
BEGIN:DAYLIGHT
TZOFFSETFROM:-0800
TZOFFSETTO:-0700
TZNAME:PDT
DTSTART:20160313T100000
END:DAYLIGHT
BEGIN:STANDARD
TZOFFSETFROM:-0700
TZOFFSETTO:-0800
TZNAME:PST
DTSTART:20161106T090000
END:STANDARD
END:VTIMEZONE
BEGIN:VEVENT
DTSTART;VALUE=DATE:20150316
DTEND;VALUE=DATE:20150318
DTSTAMP:20260425T083246
CREATED:20140415T100448Z
LAST-MODIFIED:20150115T205926Z
UID:231-1426464000-1426636799@idahogcsa.org
SUMMARY:Inland Empire GCSA Spring Meeting
DESCRIPTION:Join us in Northeastern Oregon for great education and fantastic golf at the Wildhorse Resort. Enjoy the beautiful renovations the hotel and casino have undergone.  We have planned a diversified meeting with David McClay Kidd\, DMK Design; Joel Simmons\, Earthworks; Gwen Stahnke\, PhD\, Walla Walla Community College; Bo Lacy\, CGCS\, Tri-City Country Club; and Kevin Hicks\, Coeur d’Alene Resort. \nHotel reservations are due by February 28 to receive our great rate. Our room block is in the Tower\, completely pet and smoke free!  Specify Inland Empire GCSA (800) 654-9453 when making your room reservation $86 + tax for double Queen or King. \nEnjoy a discount if you register for the meeting by March 6. \nFor more information\, visit the website event iegcsa.org
URL:https://idahogcsa.org/event/inland-empire-gcsa-spring-meeting/
LOCATION:Wildhorse Resort\, 46510 Wildhorse Blvd\, Pendleton\, Oregon\, 97801\, United States
END:VEVENT
BEGIN:VEVENT
DTSTART;TZID=America/Los_Angeles:20150225T183000
DTEND;TZID=America/Los_Angeles:20150225T213000
DTSTAMP:20260425T083246
CREATED:20141117T044110Z
LAST-MODIFIED:20141117T044110Z
UID:786-1424889000-1424899800@idahogcsa.org
SUMMARY:Chapters of the Northwest Hospitality Room
DESCRIPTION:Join us February 25\, 2015 at the Buckhorn Saloon in San Antonio\, TX\, 6:30 p.m. – 9:30 p.m. for the Chapters of the Northwest Hospitality Room\, brought to you by the supportive allied partners of the participating chapters.  Complimentary food and a cash bar. \nWe welcome sponsors for the event! \nDownload a sponsor form here:Sponsor form Chapters of the Northwest 15
URL:https://idahogcsa.org/event/chapters-of-the-northwest-hospitality-room/
LOCATION:Buckhorn Saloon\, 318 E Houston St\, San Antonio\, TX\, United States
END:VEVENT
BEGIN:VEVENT
DTSTART;TZID=America/Los_Angeles:20150210T080000
DTEND;TZID=America/Los_Angeles:20150211T170000
DTSTAMP:20260425T083246
CREATED:20140603T002935Z
LAST-MODIFIED:20150126T224851Z
UID:481-1423555200-1423674000@idahogcsa.org
SUMMARY:Idaho GCSA Spring Meeting & Trade Show
DESCRIPTION:Registration information available here!\nIdaho GCSA Spring Meeting & Trade Show\, Red Lion\, Boise Downtowner\, Boise\, Idaho\, February 10-11\, 2015. Our speaker lineup will “wow” you!  This event is earlier than usual to make room for the GIS conference to be held the end of February. \nSpeakers: \nThom Nikolai\, Ph.D.\, “Dr. of Green Speed” Michigan State University\nJohn Sorochan\, Ph.D.\, University of Tennessee\nRob Golembiewski\, Ph.D.\,  Bayer\nTerry Buchen\, CGCS\, MG\, Golf Agronomy International\, LLC. \nClick here to register for the meeting and pay online! \nOn line Trade Show Booth Registration 2015 Spring Meeting \n \nDownload PDFs below \nIdaho GCSA 2015 Spring Meeting Agenda PDF \nTrade Show Booth Reservation 2015 PDF \nConference Registration 2015 Idaho GCSA PDF \nHotel Reservation Info – make by Jan 18 PDF
URL:https://idahogcsa.org/event/idaho-gcsa-spring-meeting-trade-show/
LOCATION:Red Lion\, 1800 W Fairview Ave\, Boise\, ID\, 83702\, United States
ATTACH;FMTTYPE=image/jpeg:https://idahogcsa.org/wp-content/uploads/2014/06/matt-and-atkins.jpg
END:VEVENT
BEGIN:VEVENT
DTSTART;VALUE=DATE:20141103
DTEND;VALUE=DATE:20141105
DTSTAMP:20260425T083246
CREATED:20140415T100148Z
LAST-MODIFIED:20140603T001827Z
UID:226-1414972800-1415145599@idahogcsa.org
SUMMARY:Inland Empire GCSA Pesticide Meeting
DESCRIPTION:This short course has been a important opportunity to earn 10 pesticide recertification\, along with GCSAA EDU credits each November.
URL:https://idahogcsa.org/event/inland-empire-gcsa-pesticide-meeting/
LOCATION:Hayden Lake Country Club\, 2362 East Bozanta Drive\, Hayden Lake\, ID\, United States
ATTACH;FMTTYPE=image/jpeg:https://idahogcsa.org/wp-content/uploads/2014/04/url1.jpg
END:VEVENT
BEGIN:VEVENT
DTSTART;TZID=America/Los_Angeles:20141028T080000
DTEND;TZID=America/Los_Angeles:20141030T170000
DTSTAMP:20260425T083246
CREATED:20140428T081236Z
LAST-MODIFIED:20140603T001827Z
UID:421-1414483200-1414688400@idahogcsa.org
SUMMARY:Peaks & Prairies GCSA Fall Meeting & Trade Show
DESCRIPTION:For more information\, please contact Lori Russell\, Executive Director. You can reach her at 406-273-0791 or visit Peaks & Prairies GCSA website to learn more: www.ppgcsa.org
URL:https://idahogcsa.org/event/peaks-prairies-gcsa-fall-meeting-trade-show-2/
LOCATION:Holiday Inn\, 5500 Midland Rd\, Billings\, MT\, 59101\, United States
ATTACH;FMTTYPE=image/jpeg:https://idahogcsa.org/wp-content/uploads/2014/04/holiday-inn-grand-montana-billings-hotel1-top.jpg
END:VEVENT
BEGIN:VEVENT
DTSTART;VALUE=DATE:20141020
DTEND;VALUE=DATE:20141022
DTSTAMP:20260425T083246
CREATED:20140415T095646Z
LAST-MODIFIED:20140603T001827Z
UID:222-1413763200-1413935999@idahogcsa.org
SUMMARY:Inland Empire GCSA Fall Meeting & Trade Show
DESCRIPTION:Our annual event in a beautiful setting\, with service to spoil you.  Speakers will include Leah Brilman\, Director of Research and Technical Services\, Seed Research of Oregon\, Rob Golemiewski\, PhD\, Bayer\, (he’s back!) and more.
URL:https://idahogcsa.org/event/peaks-prairies-gcsa-fall-meeting-trade-show/
LOCATION:Coeur d’Alene Resort\, 115 S 2nd St\, Coeur d'Alene\, 83814\, United States
ATTACH;FMTTYPE=image/jpeg:https://idahogcsa.org/wp-content/uploads/2014/04/Coeur_DAlene_Resort_Golf_Course_-_Coeur_DAlene_Resort_359867.jpg
END:VEVENT
BEGIN:VEVENT
DTSTART;TZID=America/Los_Angeles:20141012T080000
DTEND;TZID=America/Los_Angeles:20141012T170000
DTSTAMP:20260425T083246
CREATED:20151012T201556Z
LAST-MODIFIED:20151012T203632Z
UID:1087-1413100800-1413133200@idahogcsa.org
SUMMARY:Inland Empire GCSA Pesticide Meeting October old
DESCRIPTION:We did something not so crazy… we have moved to October!  Join us for the Pesticide Meeting October 17 & 18\, 2016
URL:https://idahogcsa.org/event/inland-empire-gcsa-pesticide-meeting-october-2016/
END:VEVENT
END:VCALENDAR