BEGIN:VCALENDAR
VERSION:2.0
PRODID:-//Idaho Chapter of GCSAA - ECPv6.15.18//NONSGML v1.0//EN
CALSCALE:GREGORIAN
METHOD:PUBLISH
X-WR-CALNAME:Idaho Chapter of GCSAA
X-ORIGINAL-URL:https://idahogcsa.org
X-WR-CALDESC:Events for Idaho Chapter of GCSAA
REFRESH-INTERVAL;VALUE=DURATION:PT1H
X-Robots-Tag:noindex
X-PUBLISHED-TTL:PT1H
BEGIN:VTIMEZONE
TZID:America/Denver
BEGIN:DAYLIGHT
TZOFFSETFROM:-0700
TZOFFSETTO:-0600
TZNAME:MDT
DTSTART:20230312T090000
END:DAYLIGHT
BEGIN:STANDARD
TZOFFSETFROM:-0600
TZOFFSETTO:-0700
TZNAME:MST
DTSTART:20231105T080000
END:STANDARD
BEGIN:DAYLIGHT
TZOFFSETFROM:-0700
TZOFFSETTO:-0600
TZNAME:MDT
DTSTART:20240310T090000
END:DAYLIGHT
BEGIN:STANDARD
TZOFFSETFROM:-0600
TZOFFSETTO:-0700
TZNAME:MST
DTSTART:20241103T080000
END:STANDARD
BEGIN:DAYLIGHT
TZOFFSETFROM:-0700
TZOFFSETTO:-0600
TZNAME:MDT
DTSTART:20250309T090000
END:DAYLIGHT
BEGIN:STANDARD
TZOFFSETFROM:-0600
TZOFFSETTO:-0700
TZNAME:MST
DTSTART:20251102T080000
END:STANDARD
END:VTIMEZONE
BEGIN:VTIMEZONE
TZID:America/Los_Angeles
BEGIN:DAYLIGHT
TZOFFSETFROM:-0800
TZOFFSETTO:-0700
TZNAME:PDT
DTSTART:20230312T100000
END:DAYLIGHT
BEGIN:STANDARD
TZOFFSETFROM:-0700
TZOFFSETTO:-0800
TZNAME:PST
DTSTART:20231105T090000
END:STANDARD
BEGIN:DAYLIGHT
TZOFFSETFROM:-0800
TZOFFSETTO:-0700
TZNAME:PDT
DTSTART:20240310T100000
END:DAYLIGHT
BEGIN:STANDARD
TZOFFSETFROM:-0700
TZOFFSETTO:-0800
TZNAME:PST
DTSTART:20241103T090000
END:STANDARD
BEGIN:DAYLIGHT
TZOFFSETFROM:-0800
TZOFFSETTO:-0700
TZNAME:PDT
DTSTART:20250309T100000
END:DAYLIGHT
BEGIN:STANDARD
TZOFFSETFROM:-0700
TZOFFSETTO:-0800
TZNAME:PST
DTSTART:20251102T090000
END:STANDARD
END:VTIMEZONE
BEGIN:VEVENT
DTSTART;TZID=America/Denver:20241007T071500
DTEND;TZID=America/Denver:20241008T120000
DTSTAMP:20260425T141023
CREATED:20170319T175915Z
LAST-MODIFIED:20240923T213357Z
UID:1537-1728285300-1728388800@idahogcsa.org
SUMMARY:Idaho GCSA Fall Meeting and Silent Auction Oct 7 & 8 - Register here!
DESCRIPTION:McCall in the fall is a great place to be!  \nJoin us at McCall Golf Club for the conference and golf! Our host superintendent is Eric McCormick. \nOctober 7 & 8\, 2024\nMcCall Golf Club\n925 Fairway Dr.\nMcCall\, ID 83638 \n(Board meeting is Oct 6 as indicated in the meeting agenda) \nEnjoy education and golf both on Monday\, and education on Tuesday — plus the popular silent auction. \nDress Code: Golf attire (collared shirts\, no jeans) \nEARN: .55 GCSAA EDUs / (4) Idaho\, (4) Wyoming or (3) Montana pesticide recertification credits. \nNew this year – following the fall meeting\, a First Green event will take place Tuesday afternoon at Whitetail Golf. This is your opportunity to observe or volunteer and learn more about how to hold a First Green event at your own facility! \nHOTEL Room Block: Note this EARLY date – reservations have been extended to September 13 to receive this reduced rate of $145: \nTo reserve your room\, by Sept. 13 please call (208) 634-2230 and specify Idaho GCSA:\nBest Western Plus\, McCall Lodge & Suites\n211 South 3rd St.\, McCall\, ID 83638\nStandard King or Double Queen $145+ taxes\nContinental breakfast included. Please note the cancellation policy when making your reservation. \nSILENT AUCTION DONATION! Do you have a donation to the silent auction? Courses\, companies and individuals welcome to donate.  Click HERE to provide details about your donation.  \nCONFERENCE AGENDA – Click here PLEASE NOTE: the conference agenda is often updated and it is important you don’t rely on the first copy when registration opens. \nTo REGISTER: Request an INVOICE or PAY ONLINE for your registration and/or sponsorships:  CLICK HERE!  \nELECTIONS:\nJason Sigmund\, Nominating Committee Chair\nSlate TBA \nRead more about the event and our conference topics in the July issue of the newsletter. View online – visit the homepage of this website\, or CLICK HERE  \nDue to guarantees\, no refunds after 9:00 a.m. Sept 26. Thank you for your understanding.
URL:https://idahogcsa.org/event/idaho-gcsa-fall-meeting-3/
ATTACH;FMTTYPE=image/jpeg:https://idahogcsa.org/wp-content/uploads/2017/03/Mcall-course-banner-1.jpg
END:VEVENT
BEGIN:VEVENT
DTSTART;TZID=America/Los_Angeles:20241008T073000
DTEND;TZID=America/Los_Angeles:20241008T170000
DTSTAMP:20260425T141023
CREATED:20190922T223654Z
LAST-MODIFIED:20250616T043552Z
UID:2339-1728372600-1728406800@idahogcsa.org
SUMMARY:NW GCSA Turfgrass Expo\, III - Sponsors read before June 16!
DESCRIPTION:Review the sponsorship options for the Expo before registration opens!\nRegistration opens Monday\, June 16\, for the Northwest GCSA Turfgrass Expo III Conference and Trade Show\, October 13 & 14\, 2025\, at The Coeur d’Alene Resort.\nWe have multiple sponsorship opportunities so companies of all budget levels may participate and receive recognition.\nThe Ultimate Sponsors\, our highest level of support\, are limited.  Your level commitment preference can be emailed on Monday\, June 16\, by 3:00 p.m. MT\, to idahogcsa@idahogcsa.org\, completing the online forms at a later time. \n If we receive more than one Diamond Sponsor request\, a random drawing will be held at 4:00 pm to determine the Diamond sponsor. Companies not selected will automatically move to the Ultimate Gold Sponsor level. \nAny Gold Sponsors remaining available after the Diamond drawing (if applicable)\, and all Silver Sponsors\, will be on a first-come basis\, either through an email request or form completion. \nBecause the online forms are “involved\,” we are accepting a simple email request for the Ultimate Sponsors\, with online forms completed in the future. \nCLICK HERE FOR SPONSOR and TRADE SHOW INFORMATION\nCLICK HERE for GOLF INFORMATION \nWe are thrilled to have these incredible speakers participating at the Northwest GCSA Turfgrass Expo III\, and we can’t wait to share the full conference agenda with you.
URL:https://idahogcsa.org/event/northwest-gcsa-turfgrass-expo/
LOCATION:Coeur d’Alene Resort\, 115 S 2nd St\, Coeur d'Alene\, 83814\, United States
ATTACH;FMTTYPE=image/jpeg:https://idahogcsa.org/wp-content/uploads/2019/09/website-feature-Banner-on-2-calendar-event-May-25-1-1.jpg
END:VEVENT
BEGIN:VEVENT
DTSTART;TZID=America/Los_Angeles:20241029T073000
DTEND;TZID=America/Los_Angeles:20241031T130000
DTSTAMP:20260425T141023
CREATED:20151012T201920Z
LAST-MODIFIED:20240328T150042Z
UID:1089-1730187000-1730379600@idahogcsa.org
SUMMARY:Peaks & Prairies GCSA 2024 Fall Meeting & Trade Show
DESCRIPTION:Peaks & Prairies GCSA’s big event! Join us in Billings\, Mont.\, October 29-31\, 2024 for the Fall Meeting & Trade Show\, Billings Hotel & Convention Center\, 1223 Mullowney Lane\, Billings\, MT 59101. \nEducation at the fall meeting also extends beyond the conference room with our Trade Show!  \nFor all conference and trade show information visit ppgcsa.org end of August.
URL:https://idahogcsa.org/event/peaks-prairies-gcsa-2016-fall-meeting-trade-show/
END:VEVENT
END:VCALENDAR