BEGIN:VCALENDAR
VERSION:2.0
PRODID:-//Idaho Chapter of GCSAA - ECPv6.15.18//NONSGML v1.0//EN
CALSCALE:GREGORIAN
METHOD:PUBLISH
X-WR-CALNAME:Idaho Chapter of GCSAA
X-ORIGINAL-URL:https://idahogcsa.org
X-WR-CALDESC:Events for Idaho Chapter of GCSAA
REFRESH-INTERVAL;VALUE=DURATION:PT1H
X-Robots-Tag:noindex
X-PUBLISHED-TTL:PT1H
BEGIN:VTIMEZONE
TZID:America/Los_Angeles
BEGIN:DAYLIGHT
TZOFFSETFROM:-0800
TZOFFSETTO:-0700
TZNAME:PDT
DTSTART:20260308T100000
END:DAYLIGHT
BEGIN:STANDARD
TZOFFSETFROM:-0700
TZOFFSETTO:-0800
TZNAME:PST
DTSTART:20261101T090000
END:STANDARD
BEGIN:DAYLIGHT
TZOFFSETFROM:-0800
TZOFFSETTO:-0700
TZNAME:PDT
DTSTART:20270314T100000
END:DAYLIGHT
BEGIN:STANDARD
TZOFFSETFROM:-0700
TZOFFSETTO:-0800
TZNAME:PST
DTSTART:20271107T090000
END:STANDARD
BEGIN:DAYLIGHT
TZOFFSETFROM:-0800
TZOFFSETTO:-0700
TZNAME:PDT
DTSTART:20280312T100000
END:DAYLIGHT
BEGIN:STANDARD
TZOFFSETFROM:-0700
TZOFFSETTO:-0800
TZNAME:PST
DTSTART:20281105T090000
END:STANDARD
END:VTIMEZONE
BEGIN:VEVENT
DTSTART;TZID=America/Los_Angeles:20270120T180000
DTEND;TZID=America/Los_Angeles:20270120T200000
DTSTAMP:20260424T181049
CREATED:20180827T173805Z
LAST-MODIFIED:20260307T183104Z
UID:2002-1800468000-1800475200@idahogcsa.org
SUMMARY:Chapters of the Northwest Hospitality Room - Wed\, January 20\, 2027
DESCRIPTION:When in New Orleans for the GCSAA 2027 CTS…\nLet’s meet January 20\, 2027 for the Chapters of the Northwest Hospitality Room!\nIt will be another great evening with the six chapters participating!  6:00 p.m. – 8:00 p.m. \nPlease note the time change! \nMore details to come.
URL:https://idahogcsa.org/event/chapters-of-the-northwest-hospitality-room-2/
ATTACH;FMTTYPE=image/png:https://idahogcsa.org/wp-content/uploads/2018/08/Tin-Roof-inside-social-2019-07-29-at-11.56.43-AM-copy.png
END:VEVENT
END:VCALENDAR