BEGIN:VCALENDAR
VERSION:2.0
PRODID:-//Idaho Chapter of GCSAA - ECPv6.15.18//NONSGML v1.0//EN
CALSCALE:GREGORIAN
METHOD:PUBLISH
X-ORIGINAL-URL:https://idahogcsa.org
X-WR-CALDESC:Events for Idaho Chapter of GCSAA
REFRESH-INTERVAL;VALUE=DURATION:PT1H
X-Robots-Tag:noindex
X-PUBLISHED-TTL:PT1H
BEGIN:VTIMEZONE
TZID:America/Los_Angeles
BEGIN:DAYLIGHT
TZOFFSETFROM:-0800
TZOFFSETTO:-0700
TZNAME:PDT
DTSTART:20250309T100000
END:DAYLIGHT
BEGIN:STANDARD
TZOFFSETFROM:-0700
TZOFFSETTO:-0800
TZNAME:PST
DTSTART:20251102T090000
END:STANDARD
BEGIN:DAYLIGHT
TZOFFSETFROM:-0800
TZOFFSETTO:-0700
TZNAME:PDT
DTSTART:20260308T100000
END:DAYLIGHT
BEGIN:STANDARD
TZOFFSETFROM:-0700
TZOFFSETTO:-0800
TZNAME:PST
DTSTART:20261101T090000
END:STANDARD
BEGIN:DAYLIGHT
TZOFFSETFROM:-0800
TZOFFSETTO:-0700
TZNAME:PDT
DTSTART:20270314T100000
END:DAYLIGHT
BEGIN:STANDARD
TZOFFSETFROM:-0700
TZOFFSETTO:-0800
TZNAME:PST
DTSTART:20271107T090000
END:STANDARD
END:VTIMEZONE
BEGIN:VEVENT
DTSTART;TZID=America/Los_Angeles:20260501T080000
DTEND;TZID=America/Los_Angeles:20260501T170000
DTSTAMP:20260424T114741
CREATED:20260415T161605Z
LAST-MODIFIED:20260415T162650Z
UID:5298-1777622400-1777654800@idahogcsa.org
SUMMARY:HOW TO Complete your BMPs - please complete by May 1
DESCRIPTION:BMPs are now easier to complete! \nThis power point provided by GCSAA will help guide you through completion! \nJust two of the many important reasons why BMPs are important at YOUR facility: \n\nParticipating with facility BMP adoption helps to support the golf course management industry.\nParticipating with facility BMP adoption helps to support the superintendent profession on local\, state\, regional and national levels.\n\nhttps://idahogcsa.org/wp-content/uploads/2026/04/bmp-slide-show-PDF.pdf \n 
URL:https://idahogcsa.org/event/how-to-complete-your-bmps/
ATTACH;FMTTYPE=image/jpeg:https://idahogcsa.org/wp-content/uploads/2026/04/BMP-link-for-bmps-chimp-1.jpg
END:VEVENT
END:VCALENDAR